BEGIN:VCALENDAR
VERSION:2.0
PRODID:-//DWH Sektion Hohenlohe-Franken - ECPv6.1.3//NONSGML v1.0//EN
CALSCALE:GREGORIAN
METHOD:PUBLISH
X-WR-CALNAME:DWH Sektion Hohenlohe-Franken
X-ORIGINAL-URL:https://dackel-treff-bubenorbis.de
X-WR-CALDESC:Veranstaltungen für DWH Sektion Hohenlohe-Franken
REFRESH-INTERVAL;VALUE=DURATION:PT1H
X-Robots-Tag:noindex
X-PUBLISHED-TTL:PT1H
BEGIN:VTIMEZONE
TZID:Europe/Berlin
BEGIN:DAYLIGHT
TZOFFSETFROM:+0100
TZOFFSETTO:+0200
TZNAME:CEST
DTSTART:20250330T010000
END:DAYLIGHT
BEGIN:STANDARD
TZOFFSETFROM:+0200
TZOFFSETTO:+0100
TZNAME:CET
DTSTART:20251026T010000
END:STANDARD
END:VTIMEZONE
BEGIN:VEVENT
DTSTART;TZID=Europe/Berlin:20250322T080000
DTEND;TZID=Europe/Berlin:20250322T140000
DTSTAMP:20260423T005947
CREATED:20250212T202657Z
LAST-MODIFIED:20250212T203402Z
UID:552-1742630400-1742652000@dackel-treff-bubenorbis.de
SUMMARY:Spurlautübungstag 2
DESCRIPTION:
URL:https://dackel-treff-bubenorbis.de/terminkalender/552/
LOCATION:Kupferzell
END:VEVENT
END:VCALENDAR