BEGIN:VCALENDAR
VERSION:2.0
PRODID:-//DWH Sektion Hohenlohe-Franken - ECPv6.1.3//NONSGML v1.0//EN
CALSCALE:GREGORIAN
METHOD:PUBLISH
X-ORIGINAL-URL:https://dackel-treff-bubenorbis.de
X-WR-CALDESC:Veranstaltungen für DWH Sektion Hohenlohe-Franken
REFRESH-INTERVAL;VALUE=DURATION:PT1H
X-Robots-Tag:noindex
X-PUBLISHED-TTL:PT1H
BEGIN:VTIMEZONE
TZID:Europe/Berlin
BEGIN:DAYLIGHT
TZOFFSETFROM:+0100
TZOFFSETTO:+0200
TZNAME:CEST
DTSTART:20250330T010000
END:DAYLIGHT
BEGIN:STANDARD
TZOFFSETFROM:+0200
TZOFFSETTO:+0100
TZNAME:CET
DTSTART:20251026T010000
END:STANDARD
END:VTIMEZONE
BEGIN:VEVENT
DTSTART;TZID=Europe/Berlin:20250425T180000
DTEND;TZID=Europe/Berlin:20250425T220000
DTSTAMP:20260422T233157
CREATED:20250212T201958Z
LAST-MODIFIED:20250212T203300Z
UID:541-1745604000-1745618400@dackel-treff-bubenorbis.de
SUMMARY:Sektionsversammlung
DESCRIPTION:
URL:https://dackel-treff-bubenorbis.de/terminkalender/541/
LOCATION:Brauereigasthof Wacker\, Bölgentaler Str. 6\, Satteldorf\, 74589
END:VEVENT
END:VCALENDAR