BEGIN:VCALENDAR
VERSION:2.0
PRODID:-//DWH Sektion Hohenlohe-Franken - ECPv6.1.3//NONSGML v1.0//EN
CALSCALE:GREGORIAN
METHOD:PUBLISH
X-ORIGINAL-URL:https://dackel-treff-bubenorbis.de
X-WR-CALDESC:Veranstaltungen für DWH Sektion Hohenlohe-Franken
REFRESH-INTERVAL;VALUE=DURATION:PT1H
X-Robots-Tag:noindex
X-PUBLISHED-TTL:PT1H
BEGIN:VTIMEZONE
TZID:Europe/Berlin
BEGIN:DAYLIGHT
TZOFFSETFROM:+0100
TZOFFSETTO:+0200
TZNAME:CEST
DTSTART:20250330T010000
END:DAYLIGHT
BEGIN:STANDARD
TZOFFSETFROM:+0200
TZOFFSETTO:+0100
TZNAME:CET
DTSTART:20251026T010000
END:STANDARD
END:VTIMEZONE
BEGIN:VEVENT
DTSTART;TZID=Europe/Berlin:20250824T080000
DTEND;TZID=Europe/Berlin:20250824T130000
DTSTAMP:20260422T154521
CREATED:20250212T203618Z
LAST-MODIFIED:20250212T203850Z
UID:576-1756022400-1756040400@dackel-treff-bubenorbis.de
SUMMARY:Übungstag 1 ESw
DESCRIPTION:
URL:https://dackel-treff-bubenorbis.de/terminkalender/uebungstag-1-esw/
LOCATION:Schwarzwildgatter Louisgarde
END:VEVENT
END:VCALENDAR